BEGIN:VCALENDAR
VERSION:2.0
METHOD:PUBLISH
PRODID:-//Telerik Inc.//Sitefinity CMS 12.2//EN
BEGIN:VTIMEZONE
TZID:Central Standard Time
BEGIN:STANDARD
DTSTART:20211102T020000
RRULE:FREQ=YEARLY;BYDAY=1SU;BYHOUR=2;BYMINUTE=0;BYMONTH=11
TZNAME:Central Standard Time
TZOFFSETFROM:-0500
TZOFFSETTO:-0600
END:STANDARD
BEGIN:DAYLIGHT
DTSTART:20210301T020000
RRULE:FREQ=YEARLY;BYDAY=2SU;BYHOUR=2;BYMINUTE=0;BYMONTH=3
TZNAME:Central Daylight Time
TZOFFSETFROM:-0600
TZOFFSETTO:-0500
END:DAYLIGHT
END:VTIMEZONE
BEGIN:VEVENT
DESCRIPTION:Facing a unique research challenge?\n\nCRISPR genome editing al
 lows scientists to alter the genome of any organism. Amplicon sequencing c
 an be used to quickly characterize the full array of on- and off-target ge
 nome editing events in research studies. The rhAmpSeq&trade\; system is a 
 multiplexed\, PCR-based targeted next generation sequencing approach that 
 can accurately quantify editing efficiency.\n\nJoin IDT as we host this we
 binar to learn how researchers are using both technologies.&nbsp\;\n\nThur
 sday\, August 13\nOn-demand\nExplore our amplicon sequencing solutions\nAm
 plicon Sequencing Overview\nrhAmpSeq amplicon sequencing system
DTEND:20200813T150000Z
DTSTAMP:20221221T005820Z
DTSTART:20200813T140000Z
LOCATION:
SEQUENCE:0
SUMMARY:rhAmpSeq™ Multiplexed Amplicon Sequencing for CRISPR 
UID:RFCALITEM638071811008706955
X-ALT-DESC;FMTTYPE=text/html:<h4>Facing a unique research challenge?</h4>\n
 <p>\nCRISPR genome editing allows scientists to alter the genome of any or
 ganism. Amplicon sequencing can be used to quickly characterize the full a
 rray of on- and off-target genome editing events in research studies. The 
 rhAmpSeq&trade\; system is a multiplexed\, PCR-based targeted next generat
 ion sequencing approach that can accurately quantify editing efficiency.<b
 r />\n<br />\nJoin IDT as we host this webinar to learn how researchers ar
 e using both technologies.&nbsp\;<br />\n<br />\nThursday\, August 13<br /
 >\nOn-demand</p>\n<h4>Explore our amplicon sequencing solutions</h4>\n<p><
 a href="https://sg.idtdna.com/pages/technology/next-generation-sequencing/
 dna-sequencing/targeted-sequencing/amplicon-sequencing">Amplicon Sequencin
 g Overview</a><br />\n<a href="https://sg.idtdna.com/pages/products/next-g
 eneration-sequencing/workflow/xgen-ngs-amplicon-sequencing">rhAmpSeq ampli
 con sequencing system</a></p>
END:VEVENT
END:VCALENDAR
