BEGIN:VCALENDAR
VERSION:2.0
METHOD:PUBLISH
PRODID:-//Telerik Inc.//Sitefinity CMS 12.2//EN
BEGIN:VEVENT
DESCRIPTION:Ready to jump into CRISPR experiments but don&rsquo\;t know whe
 re to start? Already using CRISPR\, but have unique problems or see room f
 or improvement?\nThis CRISPR challenges series covers everything CRISPR\, 
 from design to analysis\, and is brought to you by the IDT experts who des
 ign and build our products. Watch the whole series\, or pick and choose th
 e ones most relevant to your research\, and take your CRISPR genome editin
 g to the next level!\nTitles in the CRISPR challenges series include:\n\n 
    &ldquo\;Getting started with CRISPR/Cas9&rdquo\;\n    &ldquo\;How do I 
 deliver CRISPR reagents into cells?&rdquo\;\n    &ldquo\;I delivered CRISP
 R into the cells\, what is next?&rdquo\;\n    &ldquo\;Improve editing unde
 r challenging conditions&rdquo\;\n    &ldquo\;Troubleshooting a CRISPR exp
 eriment"\n    &ldquo\;Getting started with HDR&rdquo\;&nbsp\;\n    &ldquo\
 ;How to maximize Cas9 HDR&rdquo\;&nbsp\;\n    &ldquo\;Robust genome editin
 g with Cas12a (Cpf1)\, an alternative to Cas9&rdquo\;&nbsp\;\n\nExplore ou
 r CRISPR genome editing solutions\nOverview\nAlt-R CRISPR-Cas9 System\nAlt
 -R CRISPR-Cas12a (Cpf1) System\nCRISPR nucleases\nGenome editing detection
 &nbsp\;(T7EI)\nrhAmpSeq CRISPR Analysis System
DTEND;VALUE=DATE:20200710
DTSTAMP:20221221T005842Z
DTSTART;VALUE=DATE:20200616
LOCATION:
SEQUENCE:0
SUMMARY:CRISPR challenges webinar series
UID:RFCALITEM638071811225258378
X-ALT-DESC;FMTTYPE=text/html:<p>Ready to jump into CRISPR experiments but d
 on&rsquo\;t know where to start? Already using CRISPR\, but have unique pr
 oblems or see room for improvement?</p>\n<p>This CRISPR challenges series 
 covers everything CRISPR\, from design to analysis\, and is brought to you
  by the IDT experts who design and build our products. Watch the whole ser
 ies\, or pick and choose the ones most relevant to your research\, and tak
 e your CRISPR genome editing to the next level!</p>\n<p>Titles in the CRIS
 PR challenges series include:</p>\n<ul>\n    <li>&ldquo\;Getting started w
 ith CRISPR/Cas9&rdquo\;</li>\n    <li>&ldquo\;How do I deliver CRISPR reag
 ents into cells?&rdquo\;</li>\n    <li>&ldquo\;I delivered CRISPR into the
  cells\, what is next?&rdquo\;</li>\n    <li>&ldquo\;Improve editing under
  challenging conditions&rdquo\;</li>\n    <li>&ldquo\;Troubleshooting a CR
 ISPR experiment"</li>\n    <li>&ldquo\;Getting started with HDR&rdquo\;&nb
 sp\;</li>\n    <li>&ldquo\;How to maximize Cas9 HDR&rdquo\;&nbsp\;</li>\n 
    <li>&ldquo\;Robust genome editing with Cas12a (Cpf1)\, an alternative t
 o Cas9&rdquo\;&nbsp\;</li>\n</ul>\n<h4>Explore our CRISPR genome editing s
 olutions</h4>\n<a href="https://sg.idtdna.com/pages/products/crispr-genome
 -editing">Overview</a><br />\n<a href="https://sg.idtdna.com/pages/product
 s/crispr-genome-editing/alt-r-crispr-cas9-system">Alt-R CRISPR-Cas9 System
 </a><br />\n<a href="https://sg.idtdna.com/pages/products/crispr-genome-ed
 iting/alt-r-crispr-cpf1-genome-editing">Alt-R CRISPR-Cas12a (Cpf1) System<
 /a><br />\n<a href="https://sg.idtdna.com/pages/products/crispr-genome-edi
 ting/alt-r-crispr-enzymes">CRISPR nucleases</a><br />\n<a href="https://ww
 w.idtdna.com/pages/products/crispr-genome-editing/alt-r-genome-editing-det
 ection-kit"></a><a href="https://sg.idtdna.com/pages/products/crispr-genom
 e-editing/alt-r-genome-editing-detection-kit">Genome editing detection</a>
 &nbsp\;(T7EI)<br />\n<a href="https://www.idtdna.com/pages/products/crispr
 -genome-editing/rhampseq-crispr-analysis-system">rhAmpSeq CRISPR Analysis 
 System</a>
END:VEVENT
END:VCALENDAR
